BEGIN:VCALENDAR
VERSION:2.0
PRODID:-//FundacjaRSC - ECPv6.15.11//NONSGML v1.0//EN
CALSCALE:GREGORIAN
METHOD:PUBLISH
X-WR-CALNAME:FundacjaRSC
X-ORIGINAL-URL:https://fundacjarsc2.pixelpick.pl
X-WR-CALDESC:Wydarzenia dla FundacjaRSC
REFRESH-INTERVAL;VALUE=DURATION:PT1H
X-Robots-Tag:noindex
X-PUBLISHED-TTL:PT1H
BEGIN:VTIMEZONE
TZID:Europe/Warsaw
BEGIN:DAYLIGHT
TZOFFSETFROM:+0100
TZOFFSETTO:+0200
TZNAME:CEST
DTSTART:20250330T010000
END:DAYLIGHT
BEGIN:STANDARD
TZOFFSETFROM:+0200
TZOFFSETTO:+0100
TZNAME:CET
DTSTART:20251026T010000
END:STANDARD
BEGIN:DAYLIGHT
TZOFFSETFROM:+0100
TZOFFSETTO:+0200
TZNAME:CEST
DTSTART:20260329T010000
END:DAYLIGHT
BEGIN:STANDARD
TZOFFSETFROM:+0200
TZOFFSETTO:+0100
TZNAME:CET
DTSTART:20261025T010000
END:STANDARD
BEGIN:DAYLIGHT
TZOFFSETFROM:+0100
TZOFFSETTO:+0200
TZNAME:CEST
DTSTART:20270328T010000
END:DAYLIGHT
BEGIN:STANDARD
TZOFFSETFROM:+0200
TZOFFSETTO:+0100
TZNAME:CET
DTSTART:20271031T010000
END:STANDARD
END:VTIMEZONE
BEGIN:VEVENT
DTSTART;TZID=Europe/Warsaw:20261002T000000
DTEND;TZID=Europe/Warsaw:20261004T235959
DTSTAMP:20260421T134824
CREATED:20260121T162019Z
LAST-MODIFIED:20260121T162019Z
UID:2187-1790899200-1791158399@fundacjarsc2.pixelpick.pl
SUMMARY:Rekolekcje Medytacyjne
DESCRIPTION:
URL:https://fundacjarsc2.pixelpick.pl/event/rekolekcje-medytacyjne-3/
CATEGORIES:Centrum Medytacji Franciszkańskiej
END:VEVENT
BEGIN:VEVENT
DTSTART;TZID=Europe/Warsaw:20261007T000000
DTEND;TZID=Europe/Warsaw:20261007T235959
DTSTAMP:20260421T134824
CREATED:20260121T162100Z
LAST-MODIFIED:20260121T162100Z
UID:2189-1791331200-1791417599@fundacjarsc2.pixelpick.pl
SUMMARY:Szkoła Budowania Wspólnoty cz. 2
DESCRIPTION:
URL:https://fundacjarsc2.pixelpick.pl/event/szkola-budowania-wspolnoty-cz-2/
CATEGORIES:Akademia Wiary
END:VEVENT
BEGIN:VEVENT
DTSTART;TZID=Europe/Warsaw:20261009T000000
DTEND;TZID=Europe/Warsaw:20261011T235959
DTSTAMP:20260421T134824
CREATED:20260121T162202Z
LAST-MODIFIED:20260121T162202Z
UID:2193-1791504000-1791763199@fundacjarsc2.pixelpick.pl
SUMMARY:Rekolekcje Ruchu Corda Pia
DESCRIPTION:
URL:https://fundacjarsc2.pixelpick.pl/event/rekolekcje-ruchu-corda-pia-2/
CATEGORIES:Corda Pia
END:VEVENT
BEGIN:VEVENT
DTSTART;TZID=Europe/Warsaw:20261014T000000
DTEND;TZID=Europe/Warsaw:20261014T235959
DTSTAMP:20260421T134824
CREATED:20260121T162225Z
LAST-MODIFIED:20260121T162225Z
UID:2195-1791936000-1792022399@fundacjarsc2.pixelpick.pl
SUMMARY:Szkoła Budowania Wspólnoty cz. 3
DESCRIPTION:
URL:https://fundacjarsc2.pixelpick.pl/event/szkola-budowania-wspolnoty-cz-3/
CATEGORIES:Akademia Wiary
END:VEVENT
BEGIN:VEVENT
DTSTART;TZID=Europe/Warsaw:20261014T000000
DTEND;TZID=Europe/Warsaw:20261014T235959
DTSTAMP:20260421T134824
CREATED:20260121T162319Z
LAST-MODIFIED:20260121T162319Z
UID:2197-1791936000-1792022399@fundacjarsc2.pixelpick.pl
SUMMARY:Warsztaty z PKI cz. 3
DESCRIPTION:
URL:https://fundacjarsc2.pixelpick.pl/event/warsztaty-z-pki-cz-3-2/
CATEGORIES:Poradnia
END:VEVENT
BEGIN:VEVENT
DTSTART;TZID=Europe/Warsaw:20261021T000000
DTEND;TZID=Europe/Warsaw:20261021T235959
DTSTAMP:20260421T134824
CREATED:20260121T162339Z
LAST-MODIFIED:20260121T162339Z
UID:2199-1792540800-1792627199@fundacjarsc2.pixelpick.pl
SUMMARY:Szkoła Budowania Wspólnoty cz. 4
DESCRIPTION:
URL:https://fundacjarsc2.pixelpick.pl/event/szkola-budowania-wspolnoty-cz-4/
CATEGORIES:Akademia Wiary
END:VEVENT
BEGIN:VEVENT
DTSTART;TZID=Europe/Warsaw:20261021T000000
DTEND;TZID=Europe/Warsaw:20261021T235959
DTSTAMP:20260421T134824
CREATED:20260121T162406Z
LAST-MODIFIED:20260121T162406Z
UID:2201-1792540800-1792627199@fundacjarsc2.pixelpick.pl
SUMMARY:Warsztaty z PKI cz. 4
DESCRIPTION:
URL:https://fundacjarsc2.pixelpick.pl/event/warsztaty-z-pki-cz-4-2/
CATEGORIES:Poradnia
END:VEVENT
BEGIN:VEVENT
DTSTART;TZID=Europe/Warsaw:20261024T000000
DTEND;TZID=Europe/Warsaw:20261024T235959
DTSTAMP:20260421T134824
CREATED:20260121T162437Z
LAST-MODIFIED:20260121T162437Z
UID:2203-1792800000-1792886399@fundacjarsc2.pixelpick.pl
SUMMARY:Dzień Glorii Federacji Chrystusa Sługi
DESCRIPTION:
URL:https://fundacjarsc2.pixelpick.pl/event/dzien-glorii-federacji-chrystusa-slugi-2/
CATEGORIES:Sanktuarium
END:VEVENT
BEGIN:VEVENT
DTSTART;TZID=Europe/Warsaw:20261028T000000
DTEND;TZID=Europe/Warsaw:20261028T235959
DTSTAMP:20260421T134824
CREATED:20260121T162501Z
LAST-MODIFIED:20260121T162501Z
UID:2205-1793145600-1793231999@fundacjarsc2.pixelpick.pl
SUMMARY:Szkoła Budowania Wspólnoty cz. 5
DESCRIPTION:
URL:https://fundacjarsc2.pixelpick.pl/event/szkola-budowania-wspolnoty-cz-5/
CATEGORIES:Akademia Wiary
END:VEVENT
BEGIN:VEVENT
DTSTART;TZID=Europe/Warsaw:20261028T000000
DTEND;TZID=Europe/Warsaw:20261028T235959
DTSTAMP:20260421T134824
CREATED:20260121T162522Z
LAST-MODIFIED:20260121T162522Z
UID:2207-1793145600-1793231999@fundacjarsc2.pixelpick.pl
SUMMARY:Warsztaty z PKI cz. 5
DESCRIPTION:
URL:https://fundacjarsc2.pixelpick.pl/event/warsztaty-z-pki-cz-5-2/
CATEGORIES:Poradnia
END:VEVENT
END:VCALENDAR