BEGIN:VCALENDAR
VERSION:2.0
PRODID:-//FundacjaRSC - ECPv6.15.11//NONSGML v1.0//EN
CALSCALE:GREGORIAN
METHOD:PUBLISH
X-WR-CALNAME:FundacjaRSC
X-ORIGINAL-URL:https://fundacjarsc2.pixelpick.pl
X-WR-CALDESC:Wydarzenia dla FundacjaRSC
REFRESH-INTERVAL;VALUE=DURATION:PT1H
X-Robots-Tag:noindex
X-PUBLISHED-TTL:PT1H
BEGIN:VTIMEZONE
TZID:Europe/Warsaw
BEGIN:DAYLIGHT
TZOFFSETFROM:+0100
TZOFFSETTO:+0200
TZNAME:CEST
DTSTART:20250330T010000
END:DAYLIGHT
BEGIN:STANDARD
TZOFFSETFROM:+0200
TZOFFSETTO:+0100
TZNAME:CET
DTSTART:20251026T010000
END:STANDARD
BEGIN:DAYLIGHT
TZOFFSETFROM:+0100
TZOFFSETTO:+0200
TZNAME:CEST
DTSTART:20260329T010000
END:DAYLIGHT
BEGIN:STANDARD
TZOFFSETFROM:+0200
TZOFFSETTO:+0100
TZNAME:CET
DTSTART:20261025T010000
END:STANDARD
BEGIN:DAYLIGHT
TZOFFSETFROM:+0100
TZOFFSETTO:+0200
TZNAME:CEST
DTSTART:20270328T010000
END:DAYLIGHT
BEGIN:STANDARD
TZOFFSETFROM:+0200
TZOFFSETTO:+0100
TZNAME:CET
DTSTART:20271031T010000
END:STANDARD
END:VTIMEZONE
BEGIN:VEVENT
DTSTART;TZID=Europe/Warsaw:20260131T000000
DTEND;TZID=Europe/Warsaw:20260201T235959
DTSTAMP:20260421T070331
CREATED:20260106T120201Z
LAST-MODIFIED:20260106T120201Z
UID:2087-1769817600-1769990399@fundacjarsc2.pixelpick.pl
SUMMARY:Rekolekcje Uzdrowienia Wewnętrznego
DESCRIPTION:
URL:https://fundacjarsc2.pixelpick.pl/event/rekolekcje-uzdrowienia-wewnetrznego/
CATEGORIES:Centrum Medytacji Franciszkańskiej
END:VEVENT
BEGIN:VEVENT
DTSTART;TZID=Europe/Warsaw:20260204T000000
DTEND;TZID=Europe/Warsaw:20260204T235959
DTSTAMP:20260421T070331
CREATED:20260106T120357Z
LAST-MODIFIED:20260106T120357Z
UID:2089-1770163200-1770249599@fundacjarsc2.pixelpick.pl
SUMMARY:Szkoła Uczniostwa cz. 4
DESCRIPTION:
URL:https://fundacjarsc2.pixelpick.pl/event/szkola-uczniostwa-cz-4/
CATEGORIES:Akademia Wiary
END:VEVENT
BEGIN:VEVENT
DTSTART;TZID=Europe/Warsaw:20260204T000000
DTEND;TZID=Europe/Warsaw:20260204T235959
DTSTAMP:20260421T070331
CREATED:20260106T120436Z
LAST-MODIFIED:20260106T120436Z
UID:2091-1770163200-1770249599@fundacjarsc2.pixelpick.pl
SUMMARY:Warsztaty z Prawidłowej Komunikacji Interpersonalnej (PKI) cz. 1
DESCRIPTION:
URL:https://fundacjarsc2.pixelpick.pl/event/warsztaty-z-prawidlowej-komunikacji-interpersonalnej-pki-cz-1/
CATEGORIES:Poradnia
END:VEVENT
BEGIN:VEVENT
DTSTART;TZID=Europe/Warsaw:20260206T000000
DTEND;TZID=Europe/Warsaw:20260208T235959
DTSTAMP:20260421T070331
CREATED:20260106T120511Z
LAST-MODIFIED:20260106T120511Z
UID:2093-1770336000-1770595199@fundacjarsc2.pixelpick.pl
SUMMARY:Piękni i Przyjęci – rekolekcje małżeńskie
DESCRIPTION:
URL:https://fundacjarsc2.pixelpick.pl/event/piekni-i-przyjeci-rekolekcje-malzenskie/
CATEGORIES:Poradnia
END:VEVENT
BEGIN:VEVENT
DTSTART;TZID=Europe/Warsaw:20260211T000000
DTEND;TZID=Europe/Warsaw:20260211T235959
DTSTAMP:20260421T070331
CREATED:20260106T120550Z
LAST-MODIFIED:20260106T120550Z
UID:2095-1770768000-1770854399@fundacjarsc2.pixelpick.pl
SUMMARY:Szkoła Uczniostwa cz. 5
DESCRIPTION:
URL:https://fundacjarsc2.pixelpick.pl/event/szkola-uczniostwa-cz-5/
CATEGORIES:Akademia Wiary
END:VEVENT
BEGIN:VEVENT
DTSTART;TZID=Europe/Warsaw:20260211T000000
DTEND;TZID=Europe/Warsaw:20260211T235959
DTSTAMP:20260421T070331
CREATED:20260106T120613Z
LAST-MODIFIED:20260106T120613Z
UID:2097-1770768000-1770854399@fundacjarsc2.pixelpick.pl
SUMMARY:Warsztaty z PKI cz. 2
DESCRIPTION:
URL:https://fundacjarsc2.pixelpick.pl/event/warsztaty-z-pki-cz-2/
CATEGORIES:Poradnia
END:VEVENT
BEGIN:VEVENT
DTSTART;TZID=Europe/Warsaw:20260213T000000
DTEND;TZID=Europe/Warsaw:20260215T235959
DTSTAMP:20260421T070331
CREATED:20260106T120651Z
LAST-MODIFIED:20260106T124226Z
UID:2099-1770940800-1771199999@fundacjarsc2.pixelpick.pl
SUMMARY:Rekolekcje Medytacyjne
DESCRIPTION:
URL:https://fundacjarsc2.pixelpick.pl/event/rekolekcje-medytacyjne/
CATEGORIES:Centrum Medytacji Franciszkańskiej
END:VEVENT
BEGIN:VEVENT
DTSTART;TZID=Europe/Warsaw:20260213T000000
DTEND;TZID=Europe/Warsaw:20260215T235959
DTSTAMP:20260421T070331
CREATED:20260106T120757Z
LAST-MODIFIED:20260106T124140Z
UID:2101-1770940800-1771199999@fundacjarsc2.pixelpick.pl
SUMMARY:Piękni i Przyjęci – rekolekcje małżeńskie  Trzebinia k/Żywca
DESCRIPTION:
URL:https://fundacjarsc2.pixelpick.pl/event/piekni-i-przyjeci-rekolekcje-malzenskie-trzebinia-k-zywca/
CATEGORIES:Poradnia
END:VEVENT
BEGIN:VEVENT
DTSTART;TZID=Europe/Warsaw:20260218T000000
DTEND;TZID=Europe/Warsaw:20260218T235959
DTSTAMP:20260421T070331
CREATED:20260106T120825Z
LAST-MODIFIED:20260106T120825Z
UID:2103-1771372800-1771459199@fundacjarsc2.pixelpick.pl
SUMMARY:Szkoła Uczniostwa cz. 6
DESCRIPTION:
URL:https://fundacjarsc2.pixelpick.pl/event/szkola-uczniostwa-cz-6/
CATEGORIES:Akademia Wiary
END:VEVENT
BEGIN:VEVENT
DTSTART;TZID=Europe/Warsaw:20260218T000000
DTEND;TZID=Europe/Warsaw:20260218T235959
DTSTAMP:20260421T070331
CREATED:20260106T120940Z
LAST-MODIFIED:20260106T120940Z
UID:2105-1771372800-1771459199@fundacjarsc2.pixelpick.pl
SUMMARY:Warsztaty z PKI cz. 3
DESCRIPTION:
URL:https://fundacjarsc2.pixelpick.pl/event/warsztaty-z-pki-cz-3/
CATEGORIES:Poradnia
END:VEVENT
BEGIN:VEVENT
DTSTART;TZID=Europe/Warsaw:20260224T000000
DTEND;TZID=Europe/Warsaw:20260224T235959
DTSTAMP:20260421T070331
CREATED:20260106T121048Z
LAST-MODIFIED:20260106T121048Z
UID:2107-1771891200-1771977599@fundacjarsc2.pixelpick.pl
SUMMARY:Noc Wojów
DESCRIPTION:
URL:https://fundacjarsc2.pixelpick.pl/event/noc-wojow/
CATEGORIES:Poradnia
END:VEVENT
BEGIN:VEVENT
DTSTART;TZID=Europe/Warsaw:20260225T000000
DTEND;TZID=Europe/Warsaw:20260225T235959
DTSTAMP:20260421T070331
CREATED:20260106T121124Z
LAST-MODIFIED:20260106T121124Z
UID:2109-1771977600-1772063999@fundacjarsc2.pixelpick.pl
SUMMARY:Szkoła Uczniostwa cz. 7
DESCRIPTION:
URL:https://fundacjarsc2.pixelpick.pl/event/szkola-uczniostwa-cz-7/
CATEGORIES:Akademia Wiary
END:VEVENT
BEGIN:VEVENT
DTSTART;TZID=Europe/Warsaw:20260225T000000
DTEND;TZID=Europe/Warsaw:20260225T235959
DTSTAMP:20260421T070331
CREATED:20260106T121150Z
LAST-MODIFIED:20260106T121150Z
UID:2111-1771977600-1772063999@fundacjarsc2.pixelpick.pl
SUMMARY:Warsztaty z PKI cz. 4
DESCRIPTION:
URL:https://fundacjarsc2.pixelpick.pl/event/warsztaty-z-pki-cz-4/
CATEGORIES:Poradnia
END:VEVENT
END:VCALENDAR