BEGIN:VCALENDAR
VERSION:2.0
PRODID:-//FundacjaRSC - ECPv6.15.11//NONSGML v1.0//EN
CALSCALE:GREGORIAN
METHOD:PUBLISH
X-ORIGINAL-URL:https://fundacjarsc2.pixelpick.pl
X-WR-CALDESC:Wydarzenia dla FundacjaRSC
REFRESH-INTERVAL;VALUE=DURATION:PT1H
X-Robots-Tag:noindex
X-PUBLISHED-TTL:PT1H
BEGIN:VTIMEZONE
TZID:Europe/Warsaw
BEGIN:DAYLIGHT
TZOFFSETFROM:+0100
TZOFFSETTO:+0200
TZNAME:CEST
DTSTART:20250330T010000
END:DAYLIGHT
BEGIN:STANDARD
TZOFFSETFROM:+0200
TZOFFSETTO:+0100
TZNAME:CET
DTSTART:20251026T010000
END:STANDARD
BEGIN:DAYLIGHT
TZOFFSETFROM:+0100
TZOFFSETTO:+0200
TZNAME:CEST
DTSTART:20260329T010000
END:DAYLIGHT
BEGIN:STANDARD
TZOFFSETFROM:+0200
TZOFFSETTO:+0100
TZNAME:CET
DTSTART:20261025T010000
END:STANDARD
BEGIN:DAYLIGHT
TZOFFSETFROM:+0100
TZOFFSETTO:+0200
TZNAME:CEST
DTSTART:20270328T010000
END:DAYLIGHT
BEGIN:STANDARD
TZOFFSETFROM:+0200
TZOFFSETTO:+0100
TZNAME:CET
DTSTART:20271031T010000
END:STANDARD
END:VTIMEZONE
BEGIN:VEVENT
DTSTART;TZID=Europe/Warsaw:20260930T000000
DTEND;TZID=Europe/Warsaw:20260930T235959
DTSTAMP:20260421T051444
CREATED:20260121T161856Z
LAST-MODIFIED:20260121T161856Z
UID:2183-1790726400-1790812799@fundacjarsc2.pixelpick.pl
SUMMARY:Szkoła Budowania Wspólnoty cz. 1
DESCRIPTION:
URL:https://fundacjarsc2.pixelpick.pl/event/szkola-budowania-wspolnoty-cz-1/
CATEGORIES:Akademia Wiary
END:VEVENT
BEGIN:VEVENT
DTSTART;TZID=Europe/Warsaw:20261002T000000
DTEND;TZID=Europe/Warsaw:20261004T235959
DTSTAMP:20260421T051444
CREATED:20260121T162019Z
LAST-MODIFIED:20260121T162019Z
UID:2187-1790899200-1791158399@fundacjarsc2.pixelpick.pl
SUMMARY:Rekolekcje Medytacyjne
DESCRIPTION:
URL:https://fundacjarsc2.pixelpick.pl/event/rekolekcje-medytacyjne-3/
CATEGORIES:Centrum Medytacji Franciszkańskiej
END:VEVENT
BEGIN:VEVENT
DTSTART;TZID=Europe/Warsaw:20261007T000000
DTEND;TZID=Europe/Warsaw:20261007T235959
DTSTAMP:20260421T051444
CREATED:20260121T162100Z
LAST-MODIFIED:20260121T162100Z
UID:2189-1791331200-1791417599@fundacjarsc2.pixelpick.pl
SUMMARY:Szkoła Budowania Wspólnoty cz. 2
DESCRIPTION:
URL:https://fundacjarsc2.pixelpick.pl/event/szkola-budowania-wspolnoty-cz-2/
CATEGORIES:Akademia Wiary
END:VEVENT
BEGIN:VEVENT
DTSTART;TZID=Europe/Warsaw:20261009T000000
DTEND;TZID=Europe/Warsaw:20261011T235959
DTSTAMP:20260421T051444
CREATED:20260121T162202Z
LAST-MODIFIED:20260121T162202Z
UID:2193-1791504000-1791763199@fundacjarsc2.pixelpick.pl
SUMMARY:Rekolekcje Ruchu Corda Pia
DESCRIPTION:
URL:https://fundacjarsc2.pixelpick.pl/event/rekolekcje-ruchu-corda-pia-2/
CATEGORIES:Corda Pia
END:VEVENT
BEGIN:VEVENT
DTSTART;TZID=Europe/Warsaw:20261014T000000
DTEND;TZID=Europe/Warsaw:20261014T235959
DTSTAMP:20260421T051444
CREATED:20260121T162225Z
LAST-MODIFIED:20260121T162225Z
UID:2195-1791936000-1792022399@fundacjarsc2.pixelpick.pl
SUMMARY:Szkoła Budowania Wspólnoty cz. 3
DESCRIPTION:
URL:https://fundacjarsc2.pixelpick.pl/event/szkola-budowania-wspolnoty-cz-3/
CATEGORIES:Akademia Wiary
END:VEVENT
BEGIN:VEVENT
DTSTART;TZID=Europe/Warsaw:20261014T000000
DTEND;TZID=Europe/Warsaw:20261014T235959
DTSTAMP:20260421T051444
CREATED:20260121T162319Z
LAST-MODIFIED:20260121T162319Z
UID:2197-1791936000-1792022399@fundacjarsc2.pixelpick.pl
SUMMARY:Warsztaty z PKI cz. 3
DESCRIPTION:
URL:https://fundacjarsc2.pixelpick.pl/event/warsztaty-z-pki-cz-3-2/
CATEGORIES:Poradnia
END:VEVENT
BEGIN:VEVENT
DTSTART;TZID=Europe/Warsaw:20261021T000000
DTEND;TZID=Europe/Warsaw:20261021T235959
DTSTAMP:20260421T051444
CREATED:20260121T162339Z
LAST-MODIFIED:20260121T162339Z
UID:2199-1792540800-1792627199@fundacjarsc2.pixelpick.pl
SUMMARY:Szkoła Budowania Wspólnoty cz. 4
DESCRIPTION:
URL:https://fundacjarsc2.pixelpick.pl/event/szkola-budowania-wspolnoty-cz-4/
CATEGORIES:Akademia Wiary
END:VEVENT
BEGIN:VEVENT
DTSTART;TZID=Europe/Warsaw:20261021T000000
DTEND;TZID=Europe/Warsaw:20261021T235959
DTSTAMP:20260421T051444
CREATED:20260121T162406Z
LAST-MODIFIED:20260121T162406Z
UID:2201-1792540800-1792627199@fundacjarsc2.pixelpick.pl
SUMMARY:Warsztaty z PKI cz. 4
DESCRIPTION:
URL:https://fundacjarsc2.pixelpick.pl/event/warsztaty-z-pki-cz-4-2/
CATEGORIES:Poradnia
END:VEVENT
BEGIN:VEVENT
DTSTART;TZID=Europe/Warsaw:20261024T000000
DTEND;TZID=Europe/Warsaw:20261024T235959
DTSTAMP:20260421T051444
CREATED:20260121T162437Z
LAST-MODIFIED:20260121T162437Z
UID:2203-1792800000-1792886399@fundacjarsc2.pixelpick.pl
SUMMARY:Dzień Glorii Federacji Chrystusa Sługi
DESCRIPTION:
URL:https://fundacjarsc2.pixelpick.pl/event/dzien-glorii-federacji-chrystusa-slugi-2/
CATEGORIES:Sanktuarium
END:VEVENT
BEGIN:VEVENT
DTSTART;TZID=Europe/Warsaw:20261028T000000
DTEND;TZID=Europe/Warsaw:20261028T235959
DTSTAMP:20260421T051444
CREATED:20260121T162501Z
LAST-MODIFIED:20260121T162501Z
UID:2205-1793145600-1793231999@fundacjarsc2.pixelpick.pl
SUMMARY:Szkoła Budowania Wspólnoty cz. 5
DESCRIPTION:
URL:https://fundacjarsc2.pixelpick.pl/event/szkola-budowania-wspolnoty-cz-5/
CATEGORIES:Akademia Wiary
END:VEVENT
BEGIN:VEVENT
DTSTART;TZID=Europe/Warsaw:20261028T000000
DTEND;TZID=Europe/Warsaw:20261028T235959
DTSTAMP:20260421T051444
CREATED:20260121T162522Z
LAST-MODIFIED:20260121T162522Z
UID:2207-1793145600-1793231999@fundacjarsc2.pixelpick.pl
SUMMARY:Warsztaty z PKI cz. 5
DESCRIPTION:
URL:https://fundacjarsc2.pixelpick.pl/event/warsztaty-z-pki-cz-5-2/
CATEGORIES:Poradnia
END:VEVENT
BEGIN:VEVENT
DTSTART;TZID=Europe/Warsaw:20261104T000000
DTEND;TZID=Europe/Warsaw:20261104T235959
DTSTAMP:20260421T051444
CREATED:20260121T162541Z
LAST-MODIFIED:20260121T162541Z
UID:2209-1793750400-1793836799@fundacjarsc2.pixelpick.pl
SUMMARY:Szkoła Budowania Wspólnoty cz. 6
DESCRIPTION:
URL:https://fundacjarsc2.pixelpick.pl/event/szkola-budowania-wspolnoty-cz-6/
CATEGORIES:Akademia Wiary
END:VEVENT
BEGIN:VEVENT
DTSTART;TZID=Europe/Warsaw:20261104T000000
DTEND;TZID=Europe/Warsaw:20261104T235959
DTSTAMP:20260421T051444
CREATED:20260121T162602Z
LAST-MODIFIED:20260121T162602Z
UID:2211-1793750400-1793836799@fundacjarsc2.pixelpick.pl
SUMMARY:Warsztaty z PKI cz. 6
DESCRIPTION:
URL:https://fundacjarsc2.pixelpick.pl/event/warsztaty-z-pki-cz-6-2/
CATEGORIES:Poradnia
END:VEVENT
BEGIN:VEVENT
DTSTART;TZID=Europe/Warsaw:20261107T000000
DTEND;TZID=Europe/Warsaw:20261108T235959
DTSTAMP:20260421T051444
CREATED:20260121T162626Z
LAST-MODIFIED:20260121T162626Z
UID:2213-1794009600-1794182399@fundacjarsc2.pixelpick.pl
SUMMARY:Rekolekcje Uzdrowienia Wewnętrznego
DESCRIPTION:
URL:https://fundacjarsc2.pixelpick.pl/event/rekolekcje-uzdrowienia-wewnetrznego-3/
CATEGORIES:Poradnia
END:VEVENT
BEGIN:VEVENT
DTSTART;TZID=Europe/Warsaw:20261110T000000
DTEND;TZID=Europe/Warsaw:20261110T235959
DTSTAMP:20260421T051444
CREATED:20260121T162653Z
LAST-MODIFIED:20260121T162653Z
UID:2215-1794268800-1794355199@fundacjarsc2.pixelpick.pl
SUMMARY:Warsztaty z PKI cz. 7
DESCRIPTION:
URL:https://fundacjarsc2.pixelpick.pl/event/warsztaty-z-pki-cz-7-2/
CATEGORIES:Poradnia
END:VEVENT
BEGIN:VEVENT
DTSTART;TZID=Europe/Warsaw:20261111T000000
DTEND;TZID=Europe/Warsaw:20261111T235959
DTSTAMP:20260421T051444
CREATED:20260121T162715Z
LAST-MODIFIED:20260121T162715Z
UID:2217-1794355200-1794441599@fundacjarsc2.pixelpick.pl
SUMMARY:Szkoła Budowania Wspólnoty cz. 7
DESCRIPTION:
URL:https://fundacjarsc2.pixelpick.pl/event/szkola-budowania-wspolnoty-cz-7/
CATEGORIES:Akademia Wiary
END:VEVENT
BEGIN:VEVENT
DTSTART;TZID=Europe/Warsaw:20261118T000000
DTEND;TZID=Europe/Warsaw:20261118T235959
DTSTAMP:20260421T051444
CREATED:20260121T162738Z
LAST-MODIFIED:20260121T162738Z
UID:2219-1794960000-1795046399@fundacjarsc2.pixelpick.pl
SUMMARY:Szkoła Budowania Wspólnoty cz. 8
DESCRIPTION:
URL:https://fundacjarsc2.pixelpick.pl/event/szkola-budowania-wspolnoty-cz-8/
CATEGORIES:Akademia Wiary
END:VEVENT
BEGIN:VEVENT
DTSTART;TZID=Europe/Warsaw:20261118T000000
DTEND;TZID=Europe/Warsaw:20261118T235959
DTSTAMP:20260421T051444
CREATED:20260121T162757Z
LAST-MODIFIED:20260121T162757Z
UID:2221-1794960000-1795046399@fundacjarsc2.pixelpick.pl
SUMMARY:We Dwoje - Warsztaty małżeńskie cz. 1
DESCRIPTION:
URL:https://fundacjarsc2.pixelpick.pl/event/we-dwoje-warsztaty-malzenskie-cz-1-2/
CATEGORIES:Poradnia
END:VEVENT
BEGIN:VEVENT
DTSTART;TZID=Europe/Warsaw:20261125T000000
DTEND;TZID=Europe/Warsaw:20261125T235959
DTSTAMP:20260421T051444
CREATED:20260121T162823Z
LAST-MODIFIED:20260121T162823Z
UID:2223-1795564800-1795651199@fundacjarsc2.pixelpick.pl
SUMMARY:Szkoła Budowania Wspólnoty cz. 9
DESCRIPTION:
URL:https://fundacjarsc2.pixelpick.pl/event/szkola-budowania-wspolnoty-cz-9/
CATEGORIES:Akademia Wiary
END:VEVENT
BEGIN:VEVENT
DTSTART;TZID=Europe/Warsaw:20261125T000000
DTEND;TZID=Europe/Warsaw:20261125T235959
DTSTAMP:20260421T051444
CREATED:20260121T162845Z
LAST-MODIFIED:20260121T162845Z
UID:2225-1795564800-1795651199@fundacjarsc2.pixelpick.pl
SUMMARY:We Dwoje - Warsztaty małżeńskie cz. 2
DESCRIPTION:
URL:https://fundacjarsc2.pixelpick.pl/event/we-dwoje-warsztaty-malzenskie-cz-2-2/
CATEGORIES:Poradnia
END:VEVENT
BEGIN:VEVENT
DTSTART;TZID=Europe/Warsaw:20261127T000000
DTEND;TZID=Europe/Warsaw:20261129T235959
DTSTAMP:20260421T051444
CREATED:20260121T162912Z
LAST-MODIFIED:20260121T162912Z
UID:2227-1795737600-1795996799@fundacjarsc2.pixelpick.pl
SUMMARY:Piękni i Przyjęci – rekolekcje małżeńskie
DESCRIPTION:
URL:https://fundacjarsc2.pixelpick.pl/event/piekni-i-przyjeci-rekolekcje-malzenskie-3/
CATEGORIES:Poradnia
END:VEVENT
BEGIN:VEVENT
DTSTART;TZID=Europe/Warsaw:20261202T000000
DTEND;TZID=Europe/Warsaw:20261202T235959
DTSTAMP:20260421T051444
CREATED:20260121T162942Z
LAST-MODIFIED:20260121T162942Z
UID:2229-1796169600-1796255999@fundacjarsc2.pixelpick.pl
SUMMARY:Szkoła Budowania Wspólnoty cz. 10
DESCRIPTION:
URL:https://fundacjarsc2.pixelpick.pl/event/szkola-budowania-wspolnoty-cz-10/
CATEGORIES:Akademia Wiary
END:VEVENT
BEGIN:VEVENT
DTSTART;TZID=Europe/Warsaw:20261202T000000
DTEND;TZID=Europe/Warsaw:20261202T235959
DTSTAMP:20260421T051444
CREATED:20260121T163002Z
LAST-MODIFIED:20260121T163002Z
UID:2231-1796169600-1796255999@fundacjarsc2.pixelpick.pl
SUMMARY:We Dwoje - Warsztaty małżeńskie cz. 3
DESCRIPTION:
URL:https://fundacjarsc2.pixelpick.pl/event/we-dwoje-warsztaty-malzenskie-cz-3-2/
CATEGORIES:Poradnia
END:VEVENT
BEGIN:VEVENT
DTSTART;TZID=Europe/Warsaw:20261209T000000
DTEND;TZID=Europe/Warsaw:20261209T235959
DTSTAMP:20260421T051444
CREATED:20260121T163028Z
LAST-MODIFIED:20260121T163028Z
UID:2233-1796774400-1796860799@fundacjarsc2.pixelpick.pl
SUMMARY:Szkoła Budowania Wspólnoty cz. 11
DESCRIPTION:
URL:https://fundacjarsc2.pixelpick.pl/event/szkola-budowania-wspolnoty-cz-11/
CATEGORIES:Akademia Wiary
END:VEVENT
BEGIN:VEVENT
DTSTART;TZID=Europe/Warsaw:20261209T000000
DTEND;TZID=Europe/Warsaw:20261209T235959
DTSTAMP:20260421T051444
CREATED:20260121T163047Z
LAST-MODIFIED:20260121T163047Z
UID:2235-1796774400-1796860799@fundacjarsc2.pixelpick.pl
SUMMARY:We Dwoje - Warsztaty małżeńskie cz. 4
DESCRIPTION:
URL:https://fundacjarsc2.pixelpick.pl/event/we-dwoje-warsztaty-malzenskie-cz-4-2/
CATEGORIES:Poradnia
END:VEVENT
BEGIN:VEVENT
DTSTART;TZID=Europe/Warsaw:20261212T000000
DTEND;TZID=Europe/Warsaw:20261213T235959
DTSTAMP:20260421T051444
CREATED:20260121T163113Z
LAST-MODIFIED:20260121T163113Z
UID:2237-1797033600-1797206399@fundacjarsc2.pixelpick.pl
SUMMARY:Rekolekcje Uzdrowienia Wewnętrznego
DESCRIPTION:
URL:https://fundacjarsc2.pixelpick.pl/event/rekolekcje-uzdrowienia-wewnetrznego-4/
CATEGORIES:Poradnia
END:VEVENT
BEGIN:VEVENT
DTSTART;TZID=Europe/Warsaw:20261216T000000
DTEND;TZID=Europe/Warsaw:20261216T235959
DTSTAMP:20260421T051444
CREATED:20260121T163135Z
LAST-MODIFIED:20260121T163135Z
UID:2239-1797379200-1797465599@fundacjarsc2.pixelpick.pl
SUMMARY:Szkoła Budowania Wspólnoty cz. 12
DESCRIPTION:
URL:https://fundacjarsc2.pixelpick.pl/event/szkola-budowania-wspolnoty-cz-12/
CATEGORIES:Akademia Wiary
END:VEVENT
BEGIN:VEVENT
DTSTART;TZID=Europe/Warsaw:20261216T000000
DTEND;TZID=Europe/Warsaw:20261216T235959
DTSTAMP:20260421T051444
CREATED:20260121T163157Z
LAST-MODIFIED:20260121T163157Z
UID:2241-1797379200-1797465599@fundacjarsc2.pixelpick.pl
SUMMARY:We Dwoje - Warsztaty małżeńskie cz. 5
DESCRIPTION:
URL:https://fundacjarsc2.pixelpick.pl/event/we-dwoje-warsztaty-malzenskie-cz-5-2/
CATEGORIES:Poradnia
END:VEVENT
END:VCALENDAR