BEGIN:VCALENDAR
VERSION:2.0
PRODID:-//FundacjaRSC - ECPv6.15.11//NONSGML v1.0//EN
CALSCALE:GREGORIAN
METHOD:PUBLISH
X-ORIGINAL-URL:https://fundacjarsc2.pixelpick.pl
X-WR-CALDESC:Wydarzenia dla FundacjaRSC
REFRESH-INTERVAL;VALUE=DURATION:PT1H
X-Robots-Tag:noindex
X-PUBLISHED-TTL:PT1H
BEGIN:VTIMEZONE
TZID:Europe/Warsaw
BEGIN:DAYLIGHT
TZOFFSETFROM:+0100
TZOFFSETTO:+0200
TZNAME:CEST
DTSTART:20240331T010000
END:DAYLIGHT
BEGIN:STANDARD
TZOFFSETFROM:+0200
TZOFFSETTO:+0100
TZNAME:CET
DTSTART:20241027T010000
END:STANDARD
BEGIN:DAYLIGHT
TZOFFSETFROM:+0100
TZOFFSETTO:+0200
TZNAME:CEST
DTSTART:20250330T010000
END:DAYLIGHT
BEGIN:STANDARD
TZOFFSETFROM:+0200
TZOFFSETTO:+0100
TZNAME:CET
DTSTART:20251026T010000
END:STANDARD
BEGIN:DAYLIGHT
TZOFFSETFROM:+0100
TZOFFSETTO:+0200
TZNAME:CEST
DTSTART:20260329T010000
END:DAYLIGHT
BEGIN:STANDARD
TZOFFSETFROM:+0200
TZOFFSETTO:+0100
TZNAME:CET
DTSTART:20261025T010000
END:STANDARD
BEGIN:DAYLIGHT
TZOFFSETFROM:+0100
TZOFFSETTO:+0200
TZNAME:CEST
DTSTART:20270328T010000
END:DAYLIGHT
BEGIN:STANDARD
TZOFFSETFROM:+0200
TZOFFSETTO:+0100
TZNAME:CET
DTSTART:20271031T010000
END:STANDARD
END:VTIMEZONE
BEGIN:VEVENT
DTSTART;TZID=Europe/Warsaw:20260213T000000
DTEND;TZID=Europe/Warsaw:20260215T235959
DTSTAMP:20260421T070454
CREATED:20260106T120651Z
LAST-MODIFIED:20260106T124226Z
UID:2099-1770940800-1771199999@fundacjarsc2.pixelpick.pl
SUMMARY:Rekolekcje Medytacyjne
DESCRIPTION:
URL:https://fundacjarsc2.pixelpick.pl/event/rekolekcje-medytacyjne/
CATEGORIES:Centrum Medytacji Franciszkańskiej
END:VEVENT
BEGIN:VEVENT
DTSTART;TZID=Europe/Warsaw:20260211T000000
DTEND;TZID=Europe/Warsaw:20260211T235959
DTSTAMP:20260421T070454
CREATED:20260106T120613Z
LAST-MODIFIED:20260106T120613Z
UID:2097-1770768000-1770854399@fundacjarsc2.pixelpick.pl
SUMMARY:Warsztaty z PKI cz. 2
DESCRIPTION:
URL:https://fundacjarsc2.pixelpick.pl/event/warsztaty-z-pki-cz-2/
CATEGORIES:Poradnia
END:VEVENT
BEGIN:VEVENT
DTSTART;TZID=Europe/Warsaw:20260211T000000
DTEND;TZID=Europe/Warsaw:20260211T235959
DTSTAMP:20260421T070454
CREATED:20260106T120550Z
LAST-MODIFIED:20260106T120550Z
UID:2095-1770768000-1770854399@fundacjarsc2.pixelpick.pl
SUMMARY:Szkoła Uczniostwa cz. 5
DESCRIPTION:
URL:https://fundacjarsc2.pixelpick.pl/event/szkola-uczniostwa-cz-5/
CATEGORIES:Akademia Wiary
END:VEVENT
BEGIN:VEVENT
DTSTART;TZID=Europe/Warsaw:20260206T000000
DTEND;TZID=Europe/Warsaw:20260208T235959
DTSTAMP:20260421T070454
CREATED:20260106T120511Z
LAST-MODIFIED:20260106T120511Z
UID:2093-1770336000-1770595199@fundacjarsc2.pixelpick.pl
SUMMARY:Piękni i Przyjęci – rekolekcje małżeńskie
DESCRIPTION:
URL:https://fundacjarsc2.pixelpick.pl/event/piekni-i-przyjeci-rekolekcje-malzenskie/
CATEGORIES:Poradnia
END:VEVENT
BEGIN:VEVENT
DTSTART;TZID=Europe/Warsaw:20260204T000000
DTEND;TZID=Europe/Warsaw:20260204T235959
DTSTAMP:20260421T070454
CREATED:20260106T120436Z
LAST-MODIFIED:20260106T120436Z
UID:2091-1770163200-1770249599@fundacjarsc2.pixelpick.pl
SUMMARY:Warsztaty z Prawidłowej Komunikacji Interpersonalnej (PKI) cz. 1
DESCRIPTION:
URL:https://fundacjarsc2.pixelpick.pl/event/warsztaty-z-prawidlowej-komunikacji-interpersonalnej-pki-cz-1/
CATEGORIES:Poradnia
END:VEVENT
BEGIN:VEVENT
DTSTART;TZID=Europe/Warsaw:20260204T000000
DTEND;TZID=Europe/Warsaw:20260204T235959
DTSTAMP:20260421T070454
CREATED:20260106T120357Z
LAST-MODIFIED:20260106T120357Z
UID:2089-1770163200-1770249599@fundacjarsc2.pixelpick.pl
SUMMARY:Szkoła Uczniostwa cz. 4
DESCRIPTION:
URL:https://fundacjarsc2.pixelpick.pl/event/szkola-uczniostwa-cz-4/
CATEGORIES:Akademia Wiary
END:VEVENT
BEGIN:VEVENT
DTSTART;TZID=Europe/Warsaw:20260131T000000
DTEND;TZID=Europe/Warsaw:20260201T235959
DTSTAMP:20260421T070454
CREATED:20260106T120201Z
LAST-MODIFIED:20260106T120201Z
UID:2087-1769817600-1769990399@fundacjarsc2.pixelpick.pl
SUMMARY:Rekolekcje Uzdrowienia Wewnętrznego
DESCRIPTION:
URL:https://fundacjarsc2.pixelpick.pl/event/rekolekcje-uzdrowienia-wewnetrznego/
CATEGORIES:Centrum Medytacji Franciszkańskiej
END:VEVENT
BEGIN:VEVENT
DTSTART;TZID=Europe/Warsaw:20260128T000000
DTEND;TZID=Europe/Warsaw:20260128T235959
DTSTAMP:20260421T070454
CREATED:20260106T102130Z
LAST-MODIFIED:20260106T102130Z
UID:2080-1769558400-1769644799@fundacjarsc2.pixelpick.pl
SUMMARY:Szkoła Uczniostwa cz. 3
DESCRIPTION:
URL:https://fundacjarsc2.pixelpick.pl/event/szkola-uczniostwa-cz-3/
CATEGORIES:Akademia Wiary
END:VEVENT
BEGIN:VEVENT
DTSTART;TZID=Europe/Warsaw:20260121T000000
DTEND;TZID=Europe/Warsaw:20260121T235959
DTSTAMP:20260421T070454
CREATED:20260106T102054Z
LAST-MODIFIED:20260106T102054Z
UID:2078-1768953600-1769039999@fundacjarsc2.pixelpick.pl
SUMMARY:Szkoła Uczniostwa cz. 2
DESCRIPTION:
URL:https://fundacjarsc2.pixelpick.pl/event/szkola-uczniostwa-cz-2/
CATEGORIES:Akademia Wiary
END:VEVENT
BEGIN:VEVENT
DTSTART;TZID=Europe/Warsaw:20260114T000000
DTEND;TZID=Europe/Warsaw:20260114T235959
DTSTAMP:20260421T070454
CREATED:20260106T101946Z
LAST-MODIFIED:20260106T101946Z
UID:2076-1768348800-1768435199@fundacjarsc2.pixelpick.pl
SUMMARY:Szkoła Uczniostwa cz. 1
DESCRIPTION:
URL:https://fundacjarsc2.pixelpick.pl/event/szkola-uczniostwa-cz-1/
CATEGORIES:Akademia Wiary
END:VEVENT
BEGIN:VEVENT
DTSTART;TZID=Europe/Warsaw:20251217T000000
DTEND;TZID=Europe/Warsaw:20251217T235959
DTSTAMP:20260421T070454
CREATED:20251013T154432Z
LAST-MODIFIED:20251013T154432Z
UID:2059-1765929600-1766015999@fundacjarsc2.pixelpick.pl
SUMMARY:Małżeńskie konflikty: czyli kto ma rację?
DESCRIPTION:
URL:https://fundacjarsc2.pixelpick.pl/event/malzenskie-konflikty-czyli-kto-ma-racje/
CATEGORIES:Poradnia
END:VEVENT
BEGIN:VEVENT
DTSTART;TZID=Europe/Warsaw:20251212T080000
DTEND;TZID=Europe/Warsaw:20251214T170000
DTSTAMP:20260421T070454
CREATED:20251013T154503Z
LAST-MODIFIED:20251013T154503Z
UID:2061-1765526400-1765731600@fundacjarsc2.pixelpick.pl
SUMMARY:PIĘKNI I PRZYJĘCI - Rekolekcje dla  małżeństw
DESCRIPTION:
URL:https://fundacjarsc2.pixelpick.pl/event/piekni-i-przyjeci-rekolekcje-dla-malzenstw/
CATEGORIES:Poradnia
END:VEVENT
BEGIN:VEVENT
DTSTART;TZID=Europe/Warsaw:20251206T080000
DTEND;TZID=Europe/Warsaw:20251207T170000
DTSTAMP:20260421T070454
CREATED:20251013T154325Z
LAST-MODIFIED:20251013T154325Z
UID:2055-1765008000-1765126800@fundacjarsc2.pixelpick.pl
SUMMARY:Rekolekcje Charyzmatyczne uzdrowienia wewnętrznego
DESCRIPTION:
URL:https://fundacjarsc2.pixelpick.pl/event/rekolekcje-charyzmatyczne-uzdrowienia-wewnetrznego-2/
CATEGORIES:Akademia Wiary
END:VEVENT
BEGIN:VEVENT
DTSTART;TZID=Europe/Warsaw:20251203T000000
DTEND;TZID=Europe/Warsaw:20251203T235959
DTSTAMP:20260421T070454
CREATED:20251013T154228Z
LAST-MODIFIED:20251013T154228Z
UID:2053-1764720000-1764806399@fundacjarsc2.pixelpick.pl
SUMMARY:Małżeńskie Konflikty: Najeżona para
DESCRIPTION:
URL:https://fundacjarsc2.pixelpick.pl/event/malzenskie-konflikty-najezona-para/
CATEGORIES:Poradnia
END:VEVENT
BEGIN:VEVENT
DTSTART;TZID=Europe/Warsaw:20251119T000000
DTEND;TZID=Europe/Warsaw:20251119T235959
DTSTAMP:20260421T070454
CREATED:20251013T154127Z
LAST-MODIFIED:20251013T154127Z
UID:2051-1763510400-1763596799@fundacjarsc2.pixelpick.pl
SUMMARY:Małżeńskie Konflikty:  Przyciągania Małżeńskie
DESCRIPTION:
URL:https://fundacjarsc2.pixelpick.pl/event/malzenskie-konflikty-przyciagania-malzenskie/
CATEGORIES:Poradnia
END:VEVENT
BEGIN:VEVENT
DTSTART;TZID=Europe/Warsaw:20251115T000000
DTEND;TZID=Europe/Warsaw:20251115T235959
DTSTAMP:20260421T070454
CREATED:20251013T154053Z
LAST-MODIFIED:20251013T154053Z
UID:2049-1763164800-1763251199@fundacjarsc2.pixelpick.pl
SUMMARY:Małżeńskie konflikty: We dwoje  z pasją
DESCRIPTION:
URL:https://fundacjarsc2.pixelpick.pl/event/malzenskie-konflikty-we-dwoje-z-pasja/
CATEGORIES:Poradnia
END:VEVENT
BEGIN:VEVENT
DTSTART;TZID=Europe/Warsaw:20251024T080000
DTEND;TZID=Europe/Warsaw:20251026T170000
DTSTAMP:20260421T070454
CREATED:20251013T154021Z
LAST-MODIFIED:20251013T154021Z
UID:2047-1761292800-1761498000@fundacjarsc2.pixelpick.pl
SUMMARY:Rekolekcje Medytacyjne uzdrowienia wewnętrznego
DESCRIPTION:
URL:https://fundacjarsc2.pixelpick.pl/event/rekolekcje-medytacyjne-uzdrowienia-wewnetrznego/
CATEGORIES:Centrum Medytacji Franciszkańskiej
END:VEVENT
BEGIN:VEVENT
DTSTART;TZID=Europe/Warsaw:20251018T000000
DTEND;TZID=Europe/Warsaw:20251018T235959
DTSTAMP:20260421T070454
CREATED:20251013T153906Z
LAST-MODIFIED:20251013T153906Z
UID:2045-1760745600-1760831999@fundacjarsc2.pixelpick.pl
SUMMARY:DZIEŃ GLORII Federacji Chrystusa Sługi
DESCRIPTION:
URL:https://fundacjarsc2.pixelpick.pl/event/dzien-glorii-federacji-chrystusa-slugi/
CATEGORIES:Sanktuarium
END:VEVENT
BEGIN:VEVENT
DTSTART;TZID=Europe/Warsaw:20251011T080000
DTEND;TZID=Europe/Warsaw:20251012T170000
DTSTAMP:20260421T070454
CREATED:20251013T153829Z
LAST-MODIFIED:20251013T153829Z
UID:2043-1760169600-1760288400@fundacjarsc2.pixelpick.pl
SUMMARY:Rekolekcje Charyzmatyczne uzdrowienia wewnętrznego
DESCRIPTION:
URL:https://fundacjarsc2.pixelpick.pl/event/rekolekcje-charyzmatyczne-uzdrowienia-wewnetrznego/
CATEGORIES:Poradnia
END:VEVENT
BEGIN:VEVENT
DTSTART;TZID=Europe/Warsaw:20250926T000000
DTEND;TZID=Europe/Warsaw:20250928T235959
DTSTAMP:20260421T070454
CREATED:20251013T153615Z
LAST-MODIFIED:20251013T153652Z
UID:2039-1758844800-1759103999@fundacjarsc2.pixelpick.pl
SUMMARY:Rekolekcje ruchu CORDA PIA
DESCRIPTION:
URL:https://fundacjarsc2.pixelpick.pl/event/rekolekcje-ruchu-corda-pia/
CATEGORIES:Corda Pia
END:VEVENT
END:VCALENDAR