BEGIN:VCALENDAR
VERSION:2.0
PRODID:-//FundacjaRSC - ECPv6.15.11//NONSGML v1.0//EN
CALSCALE:GREGORIAN
METHOD:PUBLISH
X-WR-CALNAME:FundacjaRSC
X-ORIGINAL-URL:https://fundacjarsc2.pixelpick.pl
X-WR-CALDESC:Wydarzenia dla FundacjaRSC
REFRESH-INTERVAL;VALUE=DURATION:PT1H
X-Robots-Tag:noindex
X-PUBLISHED-TTL:PT1H
BEGIN:VTIMEZONE
TZID:Europe/Warsaw
BEGIN:DAYLIGHT
TZOFFSETFROM:+0100
TZOFFSETTO:+0200
TZNAME:CEST
DTSTART:20250330T010000
END:DAYLIGHT
BEGIN:STANDARD
TZOFFSETFROM:+0200
TZOFFSETTO:+0100
TZNAME:CET
DTSTART:20251026T010000
END:STANDARD
BEGIN:DAYLIGHT
TZOFFSETFROM:+0100
TZOFFSETTO:+0200
TZNAME:CEST
DTSTART:20260329T010000
END:DAYLIGHT
BEGIN:STANDARD
TZOFFSETFROM:+0200
TZOFFSETTO:+0100
TZNAME:CET
DTSTART:20261025T010000
END:STANDARD
BEGIN:DAYLIGHT
TZOFFSETFROM:+0100
TZOFFSETTO:+0200
TZNAME:CEST
DTSTART:20270328T010000
END:DAYLIGHT
BEGIN:STANDARD
TZOFFSETFROM:+0200
TZOFFSETTO:+0100
TZNAME:CET
DTSTART:20271031T010000
END:STANDARD
END:VTIMEZONE
BEGIN:VEVENT
DTSTART;TZID=Europe/Warsaw:20261216T000000
DTEND;TZID=Europe/Warsaw:20261216T235959
DTSTAMP:20260421T200644
CREATED:20260121T163135Z
LAST-MODIFIED:20260121T163135Z
UID:2239-1797379200-1797465599@fundacjarsc2.pixelpick.pl
SUMMARY:Szkoła Budowania Wspólnoty cz. 12
DESCRIPTION:
URL:https://fundacjarsc2.pixelpick.pl/event/szkola-budowania-wspolnoty-cz-12/
CATEGORIES:Akademia Wiary
END:VEVENT
BEGIN:VEVENT
DTSTART;TZID=Europe/Warsaw:20261216T000000
DTEND;TZID=Europe/Warsaw:20261216T235959
DTSTAMP:20260421T200644
CREATED:20260121T163157Z
LAST-MODIFIED:20260121T163157Z
UID:2241-1797379200-1797465599@fundacjarsc2.pixelpick.pl
SUMMARY:We Dwoje - Warsztaty małżeńskie cz. 5
DESCRIPTION:
URL:https://fundacjarsc2.pixelpick.pl/event/we-dwoje-warsztaty-malzenskie-cz-5-2/
CATEGORIES:Poradnia
END:VEVENT
END:VCALENDAR