BEGIN:VCALENDAR
VERSION:2.0
PRODID:-//FundacjaRSC - ECPv6.15.11//NONSGML v1.0//EN
CALSCALE:GREGORIAN
METHOD:PUBLISH
X-WR-CALNAME:FundacjaRSC
X-ORIGINAL-URL:https://fundacjarsc2.pixelpick.pl
X-WR-CALDESC:Wydarzenia dla FundacjaRSC
REFRESH-INTERVAL;VALUE=DURATION:PT1H
X-Robots-Tag:noindex
X-PUBLISHED-TTL:PT1H
BEGIN:VTIMEZONE
TZID:Europe/Warsaw
BEGIN:DAYLIGHT
TZOFFSETFROM:+0100
TZOFFSETTO:+0200
TZNAME:CEST
DTSTART:20250330T010000
END:DAYLIGHT
BEGIN:STANDARD
TZOFFSETFROM:+0200
TZOFFSETTO:+0100
TZNAME:CET
DTSTART:20251026T010000
END:STANDARD
BEGIN:DAYLIGHT
TZOFFSETFROM:+0100
TZOFFSETTO:+0200
TZNAME:CEST
DTSTART:20260329T010000
END:DAYLIGHT
BEGIN:STANDARD
TZOFFSETFROM:+0200
TZOFFSETTO:+0100
TZNAME:CET
DTSTART:20261025T010000
END:STANDARD
BEGIN:DAYLIGHT
TZOFFSETFROM:+0100
TZOFFSETTO:+0200
TZNAME:CEST
DTSTART:20270328T010000
END:DAYLIGHT
BEGIN:STANDARD
TZOFFSETFROM:+0200
TZOFFSETTO:+0100
TZNAME:CET
DTSTART:20271031T010000
END:STANDARD
END:VTIMEZONE
BEGIN:VEVENT
DTSTART;TZID=Europe/Warsaw:20260330T000000
DTEND;TZID=Europe/Warsaw:20260404T235959
DTSTAMP:20260421T070637
CREATED:20260106T121628Z
LAST-MODIFIED:20260106T121628Z
UID:2129-1774828800-1775347199@fundacjarsc2.pixelpick.pl
SUMMARY:Szkoła Uczniostwa cz. 12 Wielki Tydzień
DESCRIPTION:
URL:https://fundacjarsc2.pixelpick.pl/event/szkola-uczniostwa-cz-12-wielki-tydzien/
CATEGORIES:Akademia Wiary
END:VEVENT
BEGIN:VEVENT
DTSTART;TZID=Europe/Warsaw:20260408T000000
DTEND;TZID=Europe/Warsaw:20260408T235959
DTSTAMP:20260421T070637
CREATED:20260106T121809Z
LAST-MODIFIED:20260106T121809Z
UID:2131-1775606400-1775692799@fundacjarsc2.pixelpick.pl
SUMMARY:Szkoła Uczniostwa cz. 13
DESCRIPTION:
URL:https://fundacjarsc2.pixelpick.pl/event/szkola-uczniostwa-cz-13/
CATEGORIES:Akademia Wiary
END:VEVENT
BEGIN:VEVENT
DTSTART;TZID=Europe/Warsaw:20260408T000000
DTEND;TZID=Europe/Warsaw:20260408T235959
DTSTAMP:20260421T070637
CREATED:20260106T122639Z
LAST-MODIFIED:20260106T122639Z
UID:2133-1775606400-1775692799@fundacjarsc2.pixelpick.pl
SUMMARY:We Dwoje - Warsztaty małżeńskie cz. 1
DESCRIPTION:
URL:https://fundacjarsc2.pixelpick.pl/event/we-dwoje-warsztaty-malzenskie-cz-1/
CATEGORIES:Poradnia
END:VEVENT
BEGIN:VEVENT
DTSTART;TZID=Europe/Warsaw:20260415T000000
DTEND;TZID=Europe/Warsaw:20260415T235959
DTSTAMP:20260421T070637
CREATED:20260106T122702Z
LAST-MODIFIED:20260106T122702Z
UID:2135-1776211200-1776297599@fundacjarsc2.pixelpick.pl
SUMMARY:Szkoła Uczniostwa cz. 14
DESCRIPTION:
URL:https://fundacjarsc2.pixelpick.pl/event/szkola-uczniostwa-cz-14/
CATEGORIES:Akademia Wiary
END:VEVENT
BEGIN:VEVENT
DTSTART;TZID=Europe/Warsaw:20260415T000000
DTEND;TZID=Europe/Warsaw:20260415T235959
DTSTAMP:20260421T070637
CREATED:20260106T122727Z
LAST-MODIFIED:20260106T122727Z
UID:2137-1776211200-1776297599@fundacjarsc2.pixelpick.pl
SUMMARY:We Dwoje - Warsztaty małżeńskie cz. 2
DESCRIPTION:
URL:https://fundacjarsc2.pixelpick.pl/event/we-dwoje-warsztaty-malzenskie-cz-2/
CATEGORIES:Poradnia
END:VEVENT
BEGIN:VEVENT
DTSTART;TZID=Europe/Warsaw:20260417T000000
DTEND;TZID=Europe/Warsaw:20260419T235959
DTSTAMP:20260421T070637
CREATED:20260106T122754Z
LAST-MODIFIED:20260106T122754Z
UID:2139-1776384000-1776643199@fundacjarsc2.pixelpick.pl
SUMMARY:Piękni i Przyjęci – rekolekcje małżeńskie
DESCRIPTION:
URL:https://fundacjarsc2.pixelpick.pl/event/piekni-i-przyjeci-rekolekcje-malzenskie-2/
CATEGORIES:Poradnia
END:VEVENT
BEGIN:VEVENT
DTSTART;TZID=Europe/Warsaw:20260422T000000
DTEND;TZID=Europe/Warsaw:20260422T235959
DTSTAMP:20260421T070637
CREATED:20260106T122904Z
LAST-MODIFIED:20260106T122904Z
UID:2143-1776816000-1776902399@fundacjarsc2.pixelpick.pl
SUMMARY:We Dwoje - Warsztaty małżeńskie cz. 3
DESCRIPTION:
URL:https://fundacjarsc2.pixelpick.pl/event/we-dwoje-warsztaty-malzenskie-cz-3/
CATEGORIES:Poradnia
END:VEVENT
BEGIN:VEVENT
DTSTART;TZID=Europe/Warsaw:20260422T080000
DTEND;TZID=Europe/Warsaw:20260422T170000
DTSTAMP:20260421T070637
CREATED:20260106T122832Z
LAST-MODIFIED:20260106T122842Z
UID:2141-1776844800-1776877200@fundacjarsc2.pixelpick.pl
SUMMARY:Szkoła Uczniostwa cz. 15
DESCRIPTION:
URL:https://fundacjarsc2.pixelpick.pl/event/szkola-uczniostwa-cz-15/
CATEGORIES:Akademia Wiary
END:VEVENT
BEGIN:VEVENT
DTSTART;TZID=Europe/Warsaw:20260429T000000
DTEND;TZID=Europe/Warsaw:20260429T235959
DTSTAMP:20260421T070637
CREATED:20260106T122925Z
LAST-MODIFIED:20260106T122925Z
UID:2145-1777420800-1777507199@fundacjarsc2.pixelpick.pl
SUMMARY:Szkoła Uczniostwa cz. 16
DESCRIPTION:
URL:https://fundacjarsc2.pixelpick.pl/event/szkola-uczniostwa-cz-16/
CATEGORIES:Akademia Wiary
END:VEVENT
BEGIN:VEVENT
DTSTART;TZID=Europe/Warsaw:20260429T000000
DTEND;TZID=Europe/Warsaw:20260429T235959
DTSTAMP:20260421T070637
CREATED:20260106T122944Z
LAST-MODIFIED:20260106T122944Z
UID:2147-1777420800-1777507199@fundacjarsc2.pixelpick.pl
SUMMARY:We Dwoje - Warsztaty małżeńskie cz. 4
DESCRIPTION:
URL:https://fundacjarsc2.pixelpick.pl/event/we-dwoje-warsztaty-malzenskie-cz-4/
CATEGORIES:Poradnia
END:VEVENT
BEGIN:VEVENT
DTSTART;TZID=Europe/Warsaw:20260506T000000
DTEND;TZID=Europe/Warsaw:20260506T235959
DTSTAMP:20260421T070637
CREATED:20260106T123016Z
LAST-MODIFIED:20260106T123016Z
UID:2149-1778025600-1778111999@fundacjarsc2.pixelpick.pl
SUMMARY:We Dwoje - Warsztaty małżeńskie cz. 5
DESCRIPTION:
URL:https://fundacjarsc2.pixelpick.pl/event/we-dwoje-warsztaty-malzenskie-cz-5/
CATEGORIES:Poradnia
END:VEVENT
BEGIN:VEVENT
DTSTART;TZID=Europe/Warsaw:20260508T000000
DTEND;TZID=Europe/Warsaw:20260510T235959
DTSTAMP:20260421T070637
CREATED:20260106T123041Z
LAST-MODIFIED:20260106T123041Z
UID:2151-1778198400-1778457599@fundacjarsc2.pixelpick.pl
SUMMARY:Rekolekcje Medytacyjne
DESCRIPTION:
URL:https://fundacjarsc2.pixelpick.pl/event/rekolekcje-medytacyjne-2/
CATEGORIES:Centrum Medytacji Franciszkańskiej
END:VEVENT
BEGIN:VEVENT
DTSTART;TZID=Europe/Warsaw:20260516T000000
DTEND;TZID=Europe/Warsaw:20260517T235959
DTSTAMP:20260421T070637
CREATED:20260106T123114Z
LAST-MODIFIED:20260106T123114Z
UID:2153-1778889600-1779062399@fundacjarsc2.pixelpick.pl
SUMMARY:Rekolekcje Federacji Chrystusa Sługi
DESCRIPTION:
URL:https://fundacjarsc2.pixelpick.pl/event/rekolekcje-federacji-chrystusa-slugi/
CATEGORIES:Sanktuarium
END:VEVENT
BEGIN:VEVENT
DTSTART;TZID=Europe/Warsaw:20260523T000000
DTEND;TZID=Europe/Warsaw:20260523T235959
DTSTAMP:20260421T070637
CREATED:20260106T123145Z
LAST-MODIFIED:20260106T123145Z
UID:2155-1779494400-1779580799@fundacjarsc2.pixelpick.pl
SUMMARY:Rajd kobiet
DESCRIPTION:
URL:https://fundacjarsc2.pixelpick.pl/event/rajd-kobiet/
CATEGORIES:Sanktuarium
END:VEVENT
BEGIN:VEVENT
DTSTART;TZID=Europe/Warsaw:20260606T000000
DTEND;TZID=Europe/Warsaw:20260606T235959
DTSTAMP:20260421T070637
CREATED:20260106T123218Z
LAST-MODIFIED:20260106T123218Z
UID:2158-1780704000-1780790399@fundacjarsc2.pixelpick.pl
SUMMARY:Rajd mężczyzn
DESCRIPTION:
URL:https://fundacjarsc2.pixelpick.pl/event/rajd-mezczyzn/
CATEGORIES:Sanktuarium
END:VEVENT
BEGIN:VEVENT
DTSTART;TZID=Europe/Warsaw:20260613T000000
DTEND;TZID=Europe/Warsaw:20260613T235959
DTSTAMP:20260421T070637
CREATED:20260106T123239Z
LAST-MODIFIED:20260106T123239Z
UID:2160-1781308800-1781395199@fundacjarsc2.pixelpick.pl
SUMMARY:Rajd rodzin
DESCRIPTION:
URL:https://fundacjarsc2.pixelpick.pl/event/rajd-rodzin/
CATEGORIES:Sanktuarium
END:VEVENT
BEGIN:VEVENT
DTSTART;TZID=Europe/Warsaw:20260620T000000
DTEND;TZID=Europe/Warsaw:20260621T235959
DTSTAMP:20260421T070637
CREATED:20260106T123310Z
LAST-MODIFIED:20260106T123310Z
UID:2162-1781913600-1782086399@fundacjarsc2.pixelpick.pl
SUMMARY:Rekolekcje Uzdrowienia Wewnętrznego
DESCRIPTION:
URL:https://fundacjarsc2.pixelpick.pl/event/rekolekcje-uzdrowienia-wewnetrznego-2/
CATEGORIES:Centrum Medytacji Franciszkańskiej
END:VEVENT
BEGIN:VEVENT
DTSTART;TZID=Europe/Warsaw:20260628T000000
DTEND;TZID=Europe/Warsaw:20260628T235959
DTSTAMP:20260421T070637
CREATED:20260106T123333Z
LAST-MODIFIED:20260106T123333Z
UID:2164-1782604800-1782691199@fundacjarsc2.pixelpick.pl
SUMMARY:Franciszkański Jarmark Rodzinny w Rychwałdzie
DESCRIPTION:
URL:https://fundacjarsc2.pixelpick.pl/event/franciszkanski-jarmark-rodzinny-w-rychwaldzie/
CATEGORIES:Sanktuarium
END:VEVENT
BEGIN:VEVENT
DTSTART;TZID=Europe/Warsaw:20260704T000000
DTEND;TZID=Europe/Warsaw:20260704T235959
DTSTAMP:20260421T070637
CREATED:20260121T161536Z
LAST-MODIFIED:20260121T161536Z
UID:2167-1783123200-1783209599@fundacjarsc2.pixelpick.pl
SUMMARY:Ewangelizacja w Beskidach
DESCRIPTION:
URL:https://fundacjarsc2.pixelpick.pl/event/ewangelizacja-w-beskidach/
CATEGORIES:Ewangelizacja w Beskidach
END:VEVENT
BEGIN:VEVENT
DTSTART;TZID=Europe/Warsaw:20260711T000000
DTEND;TZID=Europe/Warsaw:20260711T235959
DTSTAMP:20260421T070637
CREATED:20260121T161559Z
LAST-MODIFIED:20260121T161559Z
UID:2169-1783728000-1783814399@fundacjarsc2.pixelpick.pl
SUMMARY:Ewangelizacja w Beskidach
DESCRIPTION:
URL:https://fundacjarsc2.pixelpick.pl/event/ewangelizacja-w-beskidach-2/
CATEGORIES:Ewangelizacja w Beskidach
END:VEVENT
BEGIN:VEVENT
DTSTART;TZID=Europe/Warsaw:20260718T000000
DTEND;TZID=Europe/Warsaw:20260718T235959
DTSTAMP:20260421T070637
CREATED:20260121T161619Z
LAST-MODIFIED:20260121T161619Z
UID:2171-1784332800-1784419199@fundacjarsc2.pixelpick.pl
SUMMARY:Ewangelizacja w Beskidach
DESCRIPTION:
URL:https://fundacjarsc2.pixelpick.pl/event/ewangelizacja-w-beskidach-3/
CATEGORIES:Ewangelizacja w Beskidach
END:VEVENT
BEGIN:VEVENT
DTSTART;TZID=Europe/Warsaw:20260725T000000
DTEND;TZID=Europe/Warsaw:20260725T235959
DTSTAMP:20260421T070637
CREATED:20260121T161639Z
LAST-MODIFIED:20260121T161639Z
UID:2173-1784937600-1785023999@fundacjarsc2.pixelpick.pl
SUMMARY:Ewangelizacja w Beskidach
DESCRIPTION:
URL:https://fundacjarsc2.pixelpick.pl/event/ewangelizacja-w-beskidach-4/
CATEGORIES:Ewangelizacja w Beskidach
END:VEVENT
BEGIN:VEVENT
DTSTART;TZID=Europe/Warsaw:20260801T000000
DTEND;TZID=Europe/Warsaw:20260801T235959
DTSTAMP:20260421T070637
CREATED:20260121T161703Z
LAST-MODIFIED:20260121T161703Z
UID:2175-1785542400-1785628799@fundacjarsc2.pixelpick.pl
SUMMARY:Ewangelizacja w Beskidach
DESCRIPTION:
URL:https://fundacjarsc2.pixelpick.pl/event/ewangelizacja-w-beskidach-5/
CATEGORIES:Ewangelizacja w Beskidach
END:VEVENT
BEGIN:VEVENT
DTSTART;TZID=Europe/Warsaw:20260808T000000
DTEND;TZID=Europe/Warsaw:20260808T235959
DTSTAMP:20260421T070637
CREATED:20260121T161724Z
LAST-MODIFIED:20260121T161724Z
UID:2177-1786147200-1786233599@fundacjarsc2.pixelpick.pl
SUMMARY:Ewangelizacja w Beskidach
DESCRIPTION:
URL:https://fundacjarsc2.pixelpick.pl/event/ewangelizacja-w-beskidach-6/
CATEGORIES:Ewangelizacja w Beskidach
END:VEVENT
BEGIN:VEVENT
DTSTART;TZID=Europe/Warsaw:20260815T000000
DTEND;TZID=Europe/Warsaw:20260815T235959
DTSTAMP:20260421T070637
CREATED:20260121T161748Z
LAST-MODIFIED:20260121T161748Z
UID:2179-1786752000-1786838399@fundacjarsc2.pixelpick.pl
SUMMARY:Ewangelizacja w Beskidach
DESCRIPTION:
URL:https://fundacjarsc2.pixelpick.pl/event/ewangelizacja-w-beskidach-7/
CATEGORIES:Ewangelizacja w Beskidach
END:VEVENT
BEGIN:VEVENT
DTSTART;TZID=Europe/Warsaw:20260822T000000
DTEND;TZID=Europe/Warsaw:20260822T235959
DTSTAMP:20260421T070637
CREATED:20260121T161806Z
LAST-MODIFIED:20260121T161806Z
UID:2181-1787356800-1787443199@fundacjarsc2.pixelpick.pl
SUMMARY:Ewangelizacja w Beskidach
DESCRIPTION:
URL:https://fundacjarsc2.pixelpick.pl/event/ewangelizacja-w-beskidach-8/
CATEGORIES:Ewangelizacja w Beskidach
END:VEVENT
BEGIN:VEVENT
DTSTART;TZID=Europe/Warsaw:20260930T000000
DTEND;TZID=Europe/Warsaw:20260930T235959
DTSTAMP:20260421T070637
CREATED:20260121T161856Z
LAST-MODIFIED:20260121T161856Z
UID:2183-1790726400-1790812799@fundacjarsc2.pixelpick.pl
SUMMARY:Szkoła Budowania Wspólnoty cz. 1
DESCRIPTION:
URL:https://fundacjarsc2.pixelpick.pl/event/szkola-budowania-wspolnoty-cz-1/
CATEGORIES:Akademia Wiary
END:VEVENT
BEGIN:VEVENT
DTSTART;TZID=Europe/Warsaw:20261002T000000
DTEND;TZID=Europe/Warsaw:20261004T235959
DTSTAMP:20260421T070637
CREATED:20260121T162019Z
LAST-MODIFIED:20260121T162019Z
UID:2187-1790899200-1791158399@fundacjarsc2.pixelpick.pl
SUMMARY:Rekolekcje Medytacyjne
DESCRIPTION:
URL:https://fundacjarsc2.pixelpick.pl/event/rekolekcje-medytacyjne-3/
CATEGORIES:Centrum Medytacji Franciszkańskiej
END:VEVENT
BEGIN:VEVENT
DTSTART;TZID=Europe/Warsaw:20261007T000000
DTEND;TZID=Europe/Warsaw:20261007T235959
DTSTAMP:20260421T070637
CREATED:20260121T162100Z
LAST-MODIFIED:20260121T162100Z
UID:2189-1791331200-1791417599@fundacjarsc2.pixelpick.pl
SUMMARY:Szkoła Budowania Wspólnoty cz. 2
DESCRIPTION:
URL:https://fundacjarsc2.pixelpick.pl/event/szkola-budowania-wspolnoty-cz-2/
CATEGORIES:Akademia Wiary
END:VEVENT
BEGIN:VEVENT
DTSTART;TZID=Europe/Warsaw:20261009T000000
DTEND;TZID=Europe/Warsaw:20261011T235959
DTSTAMP:20260421T070637
CREATED:20260121T162202Z
LAST-MODIFIED:20260121T162202Z
UID:2193-1791504000-1791763199@fundacjarsc2.pixelpick.pl
SUMMARY:Rekolekcje Ruchu Corda Pia
DESCRIPTION:
URL:https://fundacjarsc2.pixelpick.pl/event/rekolekcje-ruchu-corda-pia-2/
CATEGORIES:Corda Pia
END:VEVENT
END:VCALENDAR