BEGIN:VCALENDAR
VERSION:2.0
PRODID:-//FundacjaRSC - ECPv6.15.11//NONSGML v1.0//EN
CALSCALE:GREGORIAN
METHOD:PUBLISH
X-WR-CALNAME:FundacjaRSC
X-ORIGINAL-URL:https://fundacjarsc2.pixelpick.pl
X-WR-CALDESC:Wydarzenia dla FundacjaRSC
REFRESH-INTERVAL;VALUE=DURATION:PT1H
X-Robots-Tag:noindex
X-PUBLISHED-TTL:PT1H
BEGIN:VTIMEZONE
TZID:Europe/Warsaw
BEGIN:DAYLIGHT
TZOFFSETFROM:+0100
TZOFFSETTO:+0200
TZNAME:CEST
DTSTART:20250330T010000
END:DAYLIGHT
BEGIN:STANDARD
TZOFFSETFROM:+0200
TZOFFSETTO:+0100
TZNAME:CET
DTSTART:20251026T010000
END:STANDARD
BEGIN:DAYLIGHT
TZOFFSETFROM:+0100
TZOFFSETTO:+0200
TZNAME:CEST
DTSTART:20260329T010000
END:DAYLIGHT
BEGIN:STANDARD
TZOFFSETFROM:+0200
TZOFFSETTO:+0100
TZNAME:CET
DTSTART:20261025T010000
END:STANDARD
BEGIN:DAYLIGHT
TZOFFSETFROM:+0100
TZOFFSETTO:+0200
TZNAME:CEST
DTSTART:20270328T010000
END:DAYLIGHT
BEGIN:STANDARD
TZOFFSETFROM:+0200
TZOFFSETTO:+0100
TZNAME:CET
DTSTART:20271031T010000
END:STANDARD
END:VTIMEZONE
BEGIN:VEVENT
DTSTART;TZID=Europe/Warsaw:20260330T000000
DTEND;TZID=Europe/Warsaw:20260404T235959
DTSTAMP:20260421T051247
CREATED:20260106T121628Z
LAST-MODIFIED:20260106T121628Z
UID:2129-1774828800-1775347199@fundacjarsc2.pixelpick.pl
SUMMARY:Szkoła Uczniostwa cz. 12 Wielki Tydzień
DESCRIPTION:
URL:https://fundacjarsc2.pixelpick.pl/event/szkola-uczniostwa-cz-12-wielki-tydzien/
CATEGORIES:Akademia Wiary
END:VEVENT
END:VCALENDAR