BEGIN:VCALENDAR
VERSION:2.0
PRODID:-//FundacjaRSC - ECPv6.15.11//NONSGML v1.0//EN
CALSCALE:GREGORIAN
METHOD:PUBLISH
X-ORIGINAL-URL:https://fundacjarsc2.pixelpick.pl
X-WR-CALDESC:Wydarzenia dla FundacjaRSC
REFRESH-INTERVAL;VALUE=DURATION:PT1H
X-Robots-Tag:noindex
X-PUBLISHED-TTL:PT1H
BEGIN:VTIMEZONE
TZID:Europe/Warsaw
BEGIN:DAYLIGHT
TZOFFSETFROM:+0100
TZOFFSETTO:+0200
TZNAME:CEST
DTSTART:20250330T010000
END:DAYLIGHT
BEGIN:STANDARD
TZOFFSETFROM:+0200
TZOFFSETTO:+0100
TZNAME:CET
DTSTART:20251026T010000
END:STANDARD
BEGIN:DAYLIGHT
TZOFFSETFROM:+0100
TZOFFSETTO:+0200
TZNAME:CEST
DTSTART:20260329T010000
END:DAYLIGHT
BEGIN:STANDARD
TZOFFSETFROM:+0200
TZOFFSETTO:+0100
TZNAME:CET
DTSTART:20261025T010000
END:STANDARD
BEGIN:DAYLIGHT
TZOFFSETFROM:+0100
TZOFFSETTO:+0200
TZNAME:CEST
DTSTART:20270328T010000
END:DAYLIGHT
BEGIN:STANDARD
TZOFFSETFROM:+0200
TZOFFSETTO:+0100
TZNAME:CET
DTSTART:20271031T010000
END:STANDARD
END:VTIMEZONE
BEGIN:VEVENT
DTSTART;TZID=Europe/Warsaw:20260225T000000
DTEND;TZID=Europe/Warsaw:20260225T235959
DTSTAMP:20260421T070325
CREATED:20260106T121124Z
LAST-MODIFIED:20260106T121124Z
UID:2109-1771977600-1772063999@fundacjarsc2.pixelpick.pl
SUMMARY:Szkoła Uczniostwa cz. 7
DESCRIPTION:
URL:https://fundacjarsc2.pixelpick.pl/event/szkola-uczniostwa-cz-7/
CATEGORIES:Akademia Wiary
END:VEVENT
BEGIN:VEVENT
DTSTART;TZID=Europe/Warsaw:20260225T000000
DTEND;TZID=Europe/Warsaw:20260225T235959
DTSTAMP:20260421T070325
CREATED:20260106T121150Z
LAST-MODIFIED:20260106T121150Z
UID:2111-1771977600-1772063999@fundacjarsc2.pixelpick.pl
SUMMARY:Warsztaty z PKI cz. 4
DESCRIPTION:
URL:https://fundacjarsc2.pixelpick.pl/event/warsztaty-z-pki-cz-4/
CATEGORIES:Poradnia
END:VEVENT
END:VCALENDAR